BEGIN:VCALENDAR
VERSION:2.0
PRODID:-//Tours Loire Valley - ECPv5.3.1.1//NONSGML v1.0//EN
CALSCALE:GREGORIAN
METHOD:PUBLISH
X-WR-CALNAME:Tours Loire Valley
X-ORIGINAL-URL:https://toursloirevalley.eu
X-WR-CALDESC:évènements pour Tours Loire Valley
BEGIN:VTIMEZONE
TZID:Europe/Paris
BEGIN:DAYLIGHT
TZOFFSETFROM:+0100
TZOFFSETTO:+0200
TZNAME:CEST
DTSTART:20220327T010000
END:DAYLIGHT
BEGIN:STANDARD
TZOFFSETFROM:+0200
TZOFFSETTO:+0100
TZNAME:CET
DTSTART:20221030T010000
END:STANDARD
END:VTIMEZONE
BEGIN:VEVENT
DTSTART;TZID=Europe/Paris:20220331T103000
DTEND;TZID=Europe/Paris:20220331T153000
DTSTAMP:20260423T115550
CREATED:20220316T155851Z
LAST-MODIFIED:20220316T160036Z
UID:1821-1648722600-1648740600@toursloirevalley.eu
SUMMARY:DEEP TECH TOURS - La tournée des campus
DESCRIPTION:Rejoignez-nous le 31 mars !Pour comprendre comment les projets Deeptech valorisent vos publications et votre thèse\, comment les liens se tissent entre startup et monde de la recherche et comment vous lancer dans l’entrepreneuriat.
URL:https://toursloirevalley.eu/agenda/deep-tech-tours-la-tournee-des-campus/
LOCATION:Université de Tours – Polytech\, 64 avenue Jean Portalis à Tours\, Polytech\, 64 avenue Jean Portalis\, Tours\, France
END:VEVENT
END:VCALENDAR