BEGIN:VCALENDAR
VERSION:2.0
PRODID:-//Tours Loire Valley - ECPv5.3.1.1//NONSGML v1.0//EN
CALSCALE:GREGORIAN
METHOD:PUBLISH
X-WR-CALNAME:Tours Loire Valley
X-ORIGINAL-URL:https://toursloirevalley.eu
X-WR-CALDESC:évènements pour Tours Loire Valley
BEGIN:VTIMEZONE
TZID:Europe/Paris
BEGIN:DAYLIGHT
TZOFFSETFROM:+0100
TZOFFSETTO:+0200
TZNAME:CEST
DTSTART:20220327T010000
END:DAYLIGHT
BEGIN:STANDARD
TZOFFSETFROM:+0200
TZOFFSETTO:+0100
TZNAME:CET
DTSTART:20221030T010000
END:STANDARD
END:VTIMEZONE
BEGIN:VEVENT
DTSTART;TZID=Europe/Paris:20220721T190000
DTEND;TZID=Europe/Paris:20220724T213000
DTSTAMP:20260421T064955
CREATED:20220620T100634Z
LAST-MODIFIED:20220620T100634Z
UID:1847-1658430000-1658698200@toursloirevalley.eu
SUMMARY:Festival Hier & Aujourd'hui
DESCRIPTION:Au coeur de la ruralité Lochoise\, dans l’enceinte du passionnant site Patrimonial de la chartreuse du Liget\, le festival Hier & Aujourd’hui invite des artistes d’exception venus du monde entier. La programmation conjointe de musiques du répertoire classique et contemporain et de la musique de création est la marque du festival Hier & Aujourd’hui.\nA travers les artistes invités et le choix de la programmation la seconde édition du festival Hier & Aujourd’hui 2022 sera de nouveau sous le sceau de l’authentique\, du saisissant et de l’inouï. 6 concerts\, 12 artistes.
URL:https://toursloirevalley.eu/agenda/festival-hier-aujourdhui/
ATTACH;FMTTYPE=image/png:https://toursloirevalley.eu/wp-content/uploads/2022/06/affiche.png
END:VEVENT
END:VCALENDAR