BEGIN:VCALENDAR
VERSION:2.0
PRODID:-//Tours Loire Valley - ECPv5.3.1.1//NONSGML v1.0//EN
CALSCALE:GREGORIAN
METHOD:PUBLISH
X-WR-CALNAME:Tours Loire Valley
X-ORIGINAL-URL:https://toursloirevalley.eu
X-WR-CALDESC:évènements pour Tours Loire Valley
BEGIN:VTIMEZONE
TZID:Europe/Paris
BEGIN:DAYLIGHT
TZOFFSETFROM:+0100
TZOFFSETTO:+0200
TZNAME:CEST
DTSTART:20220327T010000
END:DAYLIGHT
BEGIN:STANDARD
TZOFFSETFROM:+0200
TZOFFSETTO:+0100
TZNAME:CET
DTSTART:20221030T010000
END:STANDARD
END:VTIMEZONE
BEGIN:VEVENT
DTSTART;TZID=Europe/Paris:20220724T190000
DTEND;TZID=Europe/Paris:20220724T213000
DTSTAMP:20260421T050432
CREATED:20220620T103011Z
LAST-MODIFIED:20220620T103011Z
UID:1855-1658689200-1658698200@toursloirevalley.eu
SUMMARY:Marie Laure Garnier Célia Oneto Bensaid /chant piano
DESCRIPTION:Un des duo chant/piano les plus complices\, imaginatifs et envoûtants de la jeune scène française                            \n                                    24 juillet 19h \n      Marie Laure Garnier            Célia Oneto Bensaid\n             soprano                                            piano \n           Olivier Greif           Les chants de l’âme- cycle de mélodies
URL:https://toursloirevalley.eu/agenda/marie-laure-garnier-celia-oneto-bensaid-chant-piano/
ATTACH;FMTTYPE=image/png:https://toursloirevalley.eu/wp-content/uploads/2022/06/garnier-bensaid.png
END:VEVENT
END:VCALENDAR