BEGIN:VCALENDAR
VERSION:2.0
PRODID:-//Tours Loire Valley - ECPv5.3.1.1//NONSGML v1.0//EN
CALSCALE:GREGORIAN
METHOD:PUBLISH
X-WR-CALNAME:Tours Loire Valley
X-ORIGINAL-URL:https://toursloirevalley.eu
X-WR-CALDESC:évènements pour Tours Loire Valley
BEGIN:VTIMEZONE
TZID:Europe/Paris
BEGIN:DAYLIGHT
TZOFFSETFROM:+0100
TZOFFSETTO:+0200
TZNAME:CEST
DTSTART:20220327T010000
END:DAYLIGHT
BEGIN:STANDARD
TZOFFSETFROM:+0200
TZOFFSETTO:+0100
TZNAME:CET
DTSTART:20221030T010000
END:STANDARD
END:VTIMEZONE
BEGIN:VEVENT
DTSTART;TZID=Europe/Paris:20220401T083000
DTEND;TZID=Europe/Paris:20220401T100000
DTSTAMP:20260423T105046
CREATED:20220325T113817Z
LAST-MODIFIED:20220325T113817Z
UID:1832-1648801800-1648807200@toursloirevalley.eu
SUMMARY:Petit-dej pro #20 - Recruter autrement
DESCRIPTION:? L’employeur  » Je ne trouve pas de candidat pour mes offres… »\n? Le candidat  » Je ne trouve pas d’offres qui me correspondent  »\nLes recruteurs sont confrontés à des tensions et les entreprises connaissent des difficultés pour attirer et recruter des talents.\nMais alors comment attirer les candidats pour embaucher les profils adaptés ?\nAnalyse de poste\, savoir-être professionnels… On vous dit tout sur les pratiques qui aident à recruter autrement et donc plus facilement ! ?\n \nÀ la carte de cette 20ème session :\n8h30 : Accueil café/viennoiseries\n9h00 – 9h50 : Recruter autrement\, conférence animée par Michel Gueguen\, chargé de relations entreprises au sein de Pôle Emploi.\n9h50 – 10h00 : Questions / Réponses / Échanges
URL:https://toursloirevalley.eu/agenda/petit-dej-pro-20-recruter-autrement/
LOCATION:Le Rubixco\, 1 rue Bernard Maris\, Montlouis-sur-Loire\, 37270\, France
ATTACH;FMTTYPE=image/jpeg:https://toursloirevalley.eu/wp-content/uploads/2022/03/PETIT-DEJ-PRO-6-43.jpg
END:VEVENT
END:VCALENDAR