BEGIN:VCALENDAR
VERSION:2.0
PRODID:-//Tours Loire Valley - ECPv5.3.1.1//NONSGML v1.0//EN
CALSCALE:GREGORIAN
METHOD:PUBLISH
X-WR-CALNAME:Tours Loire Valley
X-ORIGINAL-URL:https://toursloirevalley.eu
X-WR-CALDESC:évènements pour Tours Loire Valley
BEGIN:VTIMEZONE
TZID:Europe/Paris
BEGIN:DAYLIGHT
TZOFFSETFROM:+0100
TZOFFSETTO:+0200
TZNAME:CEST
DTSTART:20220327T010000
END:DAYLIGHT
BEGIN:STANDARD
TZOFFSETFROM:+0200
TZOFFSETTO:+0100
TZNAME:CET
DTSTART:20221030T010000
END:STANDARD
END:VTIMEZONE
BEGIN:VEVENT
DTSTART;TZID=Europe/Paris:20220721T193000
DTEND;TZID=Europe/Paris:20220721T213000
DTSTAMP:20260421T064920
CREATED:20220620T101202Z
LAST-MODIFIED:20220620T101202Z
UID:1849-1658431800-1658439000@toursloirevalley.eu
SUMMARY:Quatuor Esmé
DESCRIPTION:Le quatuor à cordes Esmé a fait une entrée sensationnelle sur la scène internationale en avril 2018 en remportant le premier prix et quatre prix spéciaux (Alan Bradley Mozart-Prize\, Bram Eldering Beethoven-Prize\, le ProQuartet et le Prix de la Fondation Esterházy) au prestigieux concours international de quatuor à cordes du Wigmore Hall de Londres.\n Récemment\, elles ont été nommées lauréates HSBC 2018 du Festival d’Aix-en Provence\, en France.\n                                    21 juillet 19h30 \n                                     Quatuor Esmé \n       Wonhee Bae   Yuna Ha    Jiwon Kim    Ye-eun Heo\n          violon              violon          alto             violoncelle \n           Schubert       	          La jeune fille et la mort en ré mineur D. 810\n           Webern                        Langsamer Satz\n           Beethoven    	          Grande fugue en si bémol majeur  opus 13
URL:https://toursloirevalley.eu/agenda/quatuor-esme/
ATTACH;FMTTYPE=image/png:https://toursloirevalley.eu/wp-content/uploads/2022/06/Esmé©Kim-Soo.png
END:VEVENT
END:VCALENDAR