BEGIN:VCALENDAR
VERSION:2.0
PRODID:-//Tours Loire Valley - ECPv5.3.1.1//NONSGML v1.0//EN
CALSCALE:GREGORIAN
METHOD:PUBLISH
X-WR-CALNAME:Tours Loire Valley
X-ORIGINAL-URL:https://toursloirevalley.eu
X-WR-CALDESC:évènements pour Tours Loire Valley
BEGIN:VTIMEZONE
TZID:Europe/Paris
BEGIN:DAYLIGHT
TZOFFSETFROM:+0100
TZOFFSETTO:+0200
TZNAME:CEST
DTSTART:20220327T010000
END:DAYLIGHT
BEGIN:STANDARD
TZOFFSETFROM:+0200
TZOFFSETTO:+0100
TZNAME:CET
DTSTART:20221030T010000
END:STANDARD
END:VTIMEZONE
BEGIN:VEVENT
DTSTART;TZID=Europe/Paris:20220708T000000
DTEND;TZID=Europe/Paris:20220710T235959
DTSTAMP:20260421T064920
CREATED:20220214T140152Z
LAST-MODIFIED:20220214T140152Z
UID:1807-1657238400-1657497599@toursloirevalley.eu
SUMMARY:Terres du Son
DESCRIPTION:Le festival Éco-Responsable Terres du Son est un festival de musique créé en 2005 à Tours\, et ayant lieu tous les ans au Domaine de Candé à Monts. Sur une durée de 3 jours\, le festival cherche à faire découvrir de jeunes talents ainsi que des artistes locaux. L’édition 2022 aura lieu du 8 au 10 juillet 2022.
URL:https://toursloirevalley.eu/agenda/terres-du-son/
ATTACH;FMTTYPE=image/jpeg:https://toursloirevalley.eu/wp-content/uploads/2022/02/Terres-du-son-2018-Credit-Fabien-Garou-Photographie-3553.jpg
END:VEVENT
END:VCALENDAR